BEGIN:VCALENDAR
PRODID:-//eluceo/ical//2.0/EN
VERSION:2.0
CALSCALE:GREGORIAN
BEGIN:VEVENT
UID:462d2b42c7f673647148da8c13e6a044
DTSTAMP:20260424T231437Z
SUMMARY:9:30-Noon Passover Model Seder-HA
DESCRIPTION:The Knoxville Jewish Alliance\nThe Knoxville Jewish Alliance Ca
 lendar\nhttps://jewishknoxville.org/calendar/930-12-pm-passover-model-sede
 r-ha-1437489430\n\nPassover seder
DTSTART;TZID=America/New_York:20160417T093000
DTEND;TZID=America/New_York:20160417T120000
END:VEVENT
END:VCALENDAR
