BEGIN:VCALENDAR
PRODID:-//eluceo/ical//2.0/EN
VERSION:2.0
CALSCALE:GREGORIAN
BEGIN:VEVENT
UID:64f3bd6d965e962cc817702a2d7c1ad1
DTSTAMP:20260425T111300Z
SUMMARY:9:30 a.m. - 11:00 a.m. -  Tai Chi - Canceled
DESCRIPTION:The Knoxville Jewish Alliance\nThe Knoxville Jewish Alliance Ca
 lendar\nhttps://jewishknoxville.org/calendar/930-am-1100-am---tai-chi---ca
 nceled-332202\n\nTai Chi Society CANCELED\n\n \n\n7:30 a.m -10:30 p.m.- 3
 rd  Day of Chanukah Holiday - Campus Closed 
DTSTART;TZID=America/New_York:20191225T093000
DTEND;TZID=America/New_York:20191225T110000
END:VEVENT
END:VCALENDAR
