BEGIN:VCALENDAR
PRODID:-//eluceo/ical//2.0/EN
VERSION:2.0
CALSCALE:GREGORIAN
BEGIN:VEVENT
UID:18d376ee8ed723662d49c05ceb051d54
DTSTAMP:20260424T062055Z
SUMMARY:9:30 a.m. - 12:30 p.m. - Mitzvah Day - AJCC Grounds
DESCRIPTION:The Knoxville Jewish Alliance\nThe Knoxville Jewish Alliance Ca
 lendar\nhttps://jewishknoxville.org/calendar/930-am-1230-pm--mitzvah-day--
 -ajcc-grounds-236864\n\nCommunity Wide Mitzvah Day 2018\n\nSunday February
  11\n\n9:30 a.m. - 12:30 p.m.\n\nArnstein Jewish\n\n﻿Community Center\n\
 n6800 Deane Hill Drive\n\n\n\n\n\n\n\n\n\n \n\n\n\n\n\n\n\n\n\nThe day wi
 ll included activities for all ages. B'yachad\, Religious Schools of Templ
 e Beth El and Heska Amuna\, and Morning Minyan will meet at the AJCC.\n\n
  \n\nActivi...
DTSTART;TZID=America/New_York:20180211T093000
DTEND;TZID=America/New_York:20180211T123000
END:VEVENT
END:VCALENDAR
