BEGIN:VCALENDAR
PRODID:-//eluceo/ical//2.0/EN
VERSION:2.0
CALSCALE:GREGORIAN
BEGIN:VEVENT
UID:2d41079bc3d21c1f5b134c0967feb453
DTSTAMP:20260425T204907Z
SUMMARY:9:30 a.m. - Noon - Mitzvah Day - AJCC Campus
DESCRIPTION:The Knoxville Jewish Alliance\nThe Knoxville Jewish Alliance Ca
 lendar\nhttps://jewishknoxville.org/calendar/930-am-noon--mitzvah-day---aj
 cc-campus-275942\n\nMitzvah Day
DTSTART;TZID=America/New_York:20190210T093000
DTEND;TZID=America/New_York:20190210T120000
END:VEVENT
END:VCALENDAR
