BEGIN:VCALENDAR
PRODID:-//eluceo/ical//2.0/EN
VERSION:2.0
CALSCALE:GREGORIAN
BEGIN:VEVENT
UID:05cda8117b184de0b2af7da0cf2d7dd9
DTSTAMP:20260421T073943Z
SUMMARY:9:30A Passover Service-HAS
DESCRIPTION:The Knoxville Jewish Alliance\nThe Knoxville Jewish Alliance Ca
 lendar\nhttps://jewishknoxville.org/calendar/930-am-passover-service-has\n
 \nRabbi Rosenbaum will be leading.
DTSTART;TZID=America/New_York:20260408T093000
DTEND;TZID=America/New_York:20260408T120000
END:VEVENT
END:VCALENDAR
