BEGIN:VCALENDAR
PRODID:-//eluceo/ical//2.0/EN
VERSION:2.0
CALSCALE:GREGORIAN
BEGIN:VEVENT
UID:e4a8aa080a7a07c9f22346a21d46aab3
DTSTAMP:20260424T072807Z
SUMMARY:9:30a-12:00p - HA - Religious School
DESCRIPTION:The Knoxville Jewish Alliance\nThe Knoxville Jewish Alliance Ca
 lendar\nhttps://jewishknoxville.org/calendar/930a-1200p---ha---religious-s
 chool-1516300810\n\nHeska Amuna Religious School
DTSTART;TZID=America/New_York:20180225T093000
DTEND;TZID=America/New_York:20180225T120000
END:VEVENT
END:VCALENDAR
