BEGIN:VCALENDAR
PRODID:-//eluceo/ical//2.0/EN
VERSION:2.0
CALSCALE:GREGORIAN
BEGIN:VEVENT
UID:3203c9b920f2d12d9277952951b5f07a
DTSTAMP:20260424T070314Z
SUMMARY:9:30a-12:00p - HA - Religious School
DESCRIPTION:The Knoxville Jewish Alliance\nThe Knoxville Jewish Alliance Ca
 lendar\nhttps://jewishknoxville.org/calendar/930a-1200p---ha---religious-s
 chool-1516301714\n\nHeska Amuna Religious School
DTSTART;TZID=America/New_York:20180415T093000
DTEND;TZID=America/New_York:20180415T120000
END:VEVENT
END:VCALENDAR
