BEGIN:VCALENDAR
PRODID:-//eluceo/ical//2.0/EN
VERSION:2.0
CALSCALE:GREGORIAN
BEGIN:VEVENT
UID:b90431280290da349a8a9268505cf6de
DTSTAMP:20260425T111520Z
SUMMARY:9:30a-12:00p - HA - Religious School and Israel Celebration
DESCRIPTION:The Knoxville Jewish Alliance\nThe Knoxville Jewish Alliance Ca
 lendar\nhttps://jewishknoxville.org/calendar/930a-1200p---ha---religious-s
 chool-and-israel-celebration-1516302129\n\nHeska Amuna Religious School
DTSTART;TZID=America/New_York:20180429T093000
DTEND;TZID=America/New_York:20180429T120000
END:VEVENT
END:VCALENDAR
