BEGIN:VCALENDAR
PRODID:-//eluceo/ical//2.0/EN
VERSION:2.0
CALSCALE:GREGORIAN
BEGIN:VEVENT
UID:0ebe7326b50dafcf753e33f5a4fd1f57
DTSTAMP:20260423T205103Z
SUMMARY:9:30a-12:30p - HA - Religious School
DESCRIPTION:The Knoxville Jewish Alliance\nThe Knoxville Jewish Alliance Ca
 lendar\nhttps://jewishknoxville.org/calendar/930a-1230p---ha---religious-s
 chool-1508353702\n\nReligious School
DTSTART;TZID=America/New_York:20180225T093000
DTEND;TZID=America/New_York:20180225T123000
END:VEVENT
END:VCALENDAR
