BEGIN:VCALENDAR
PRODID:-//eluceo/ical//2.0/EN
VERSION:2.0
CALSCALE:GREGORIAN
BEGIN:VEVENT
UID:0cf0ac21b268b9f83de339bb83bc5e9c
DTSTAMP:20260423T165551Z
SUMMARY:9:30a-12p - HA - Religious School
DESCRIPTION:The Knoxville Jewish Alliance\nThe Knoxville Jewish Alliance Ca
 lendar\nhttps://jewishknoxville.org/calendar/930a-12p---ha---religious-sch
 ool-1516301389\n\nHeska Amuna Religious School
DTSTART;TZID=America/New_York:20180325T093000
DTEND;TZID=America/New_York:20180325T120000
END:VEVENT
END:VCALENDAR
