BEGIN:VCALENDAR
PRODID:-//eluceo/ical//2.0/EN
VERSION:2.0
CALSCALE:GREGORIAN
BEGIN:VEVENT
UID:f20bee38ce66b4e464f68d4f4a930371
DTSTAMP:20260423T093514Z
SUMMARY:9:30a 1st day RS-TBE
DESCRIPTION:The Knoxville Jewish Alliance\nThe Knoxville Jewish Alliance Ca
 lendar\nhttps://jewishknoxville.org/calendar/930a-1st-day-rs-tbe-2025-26\n
 \n9:30a 1st day RS
DTSTART;TZID=America/New_York:20250824T093000
DTEND;TZID=America/New_York:20250824T120000
END:VEVENT
END:VCALENDAR
