BEGIN:VCALENDAR
PRODID:-//eluceo/ical//2.0/EN
VERSION:2.0
CALSCALE:GREGORIAN
BEGIN:VEVENT
UID:cedae2ad65e2c5449467efe5a96eaed8
DTSTAMP:20260422T072651Z
SUMMARY:9:30a Breakfast w/Rabbi - examining HHD Prayer Books-TBE
DESCRIPTION:The Knoxville Jewish Alliance\nThe Knoxville Jewish Alliance Ca
 lendar\nhttps://jewishknoxville.org/calendar/930a-breakfast-wrabbi-examini
 ng-hhd-prayer-books-tbe-241703\n\nBreakfast w/Rabbi - Examining HHD Prayer
  Books
DTSTART;TZID=America/New_York:20170805T093000
DTEND;TZID=America/New_York:20170805T120000
END:VEVENT
END:VCALENDAR
