BEGIN:VCALENDAR
PRODID:-//eluceo/ical//2.0/EN
VERSION:2.0
CALSCALE:GREGORIAN
BEGIN:VEVENT
UID:042ca4c77b9121e4c0112f2e779f178e
DTSTAMP:20260423T082444Z
SUMMARY:9:30a Jewish Living At Home (JLAH)- HA
DESCRIPTION:The Knoxville Jewish Alliance\nThe Knoxville Jewish Alliance Ca
 lendar\nhttps://jewishknoxville.org/calendar/930a-jlah-ha3-275145\n\nWomen
 's League at Heska Amuna sponsors a day of learning for adults and childre
 n.
DTSTART;TZID=America/New_York:20190414T093000
DTEND;TZID=America/New_York:20190414T123000
END:VEVENT
END:VCALENDAR
