BEGIN:VCALENDAR
PRODID:-//eluceo/ical//2.0/EN
VERSION:2.0
CALSCALE:GREGORIAN
BEGIN:VEVENT
UID:8597e031350f19d6ea01335792332d9d
DTSTAMP:20260423T081053Z
SUMMARY:9:30a Religious School-HA
DESCRIPTION:The Knoxville Jewish Alliance\nThe Knoxville Jewish Alliance Ca
 lendar\nhttps://jewishknoxville.org/calendar/930a-religious-school-ha2-275
 137\n\nReligious School at Heska Amuna
DTSTART;TZID=America/New_York:20180819T093000
DTEND;TZID=America/New_York:20180819T123000
END:VEVENT
END:VCALENDAR
