BEGIN:VCALENDAR
PRODID:-//eluceo/ical//2.0/EN
VERSION:2.0
CALSCALE:GREGORIAN
BEGIN:VEVENT
UID:db25391c1924c78b4f575060f893cbed
DTSTAMP:20260423T081033Z
SUMMARY:9:30a Religious School-HA
DESCRIPTION:The Knoxville Jewish Alliance\nThe Knoxville Jewish Alliance Ca
 lendar\nhttps://jewishknoxville.org/calendar/930a-religious-school-ha5-275
 140\n\nReligious School at Heska Amuna
DTSTART;TZID=America/New_York:20181209T093000
DTEND;TZID=America/New_York:20181209T123000
END:VEVENT
END:VCALENDAR
