BEGIN:VCALENDAR
PRODID:-//eluceo/ical//2.0/EN
VERSION:2.0
CALSCALE:GREGORIAN
BEGIN:VEVENT
UID:c3c84f5c74a47c77040b8478d727e4cb
DTSTAMP:20260425T172438Z
SUMMARY:9:30a RS-TBE
DESCRIPTION:The Knoxville Jewish Alliance\nThe Knoxville Jewish Alliance Ca
 lendar\nhttps://jewishknoxville.org/calendar/930a-rs-tbe-2025-26\n\n9:30a 
 RS
DTSTART;TZID=America/New_York:20250907T093000
DTEND;TZID=America/New_York:20250907T120000
END:VEVENT
END:VCALENDAR
