BEGIN:VCALENDAR
PRODID:-//eluceo/ical//2.0/EN
VERSION:2.0
CALSCALE:GREGORIAN
BEGIN:VEVENT
UID:101e30ac8eeec57ccad2a180f09b26f0
DTSTAMP:20260424T072827Z
SUMMARY:9:30a Shabbat in the Chapel-HA
DESCRIPTION:The Knoxville Jewish Alliance\nThe Knoxville Jewish Alliance Ca
 lendar\nhttps://jewishknoxville.org/calendar/930a-shabbat-in-the-chapel-ha
 -257884\n\nJoin us for Shabbat Services!
DTSTART;TZID=America/New_York:20180106T093000
DTEND;TZID=America/New_York:20180106T123000
END:VEVENT
END:VCALENDAR
