BEGIN:VCALENDAR
PRODID:-//eluceo/ical//2.0/EN
VERSION:2.0
CALSCALE:GREGORIAN
BEGIN:VEVENT
UID:083e92d5e93865473d6c7e9d5f876c08
DTSTAMP:20260423T093606Z
SUMMARY:9:30a Shabbat Services--HA
DESCRIPTION:The Knoxville Jewish Alliance\nThe Knoxville Jewish Alliance Ca
 lendar\nhttps://jewishknoxville.org/calendar/930a-shabbat-services--ha-151
 8110380\n\nAll are welcome to join us for Shabbat Services.
DTSTART;TZID=America/New_York:20180210T093000
DTEND;TZID=America/New_York:20180210T120000
END:VEVENT
END:VCALENDAR
