BEGIN:VCALENDAR
PRODID:-//eluceo/ical//2.0/EN
VERSION:2.0
CALSCALE:GREGORIAN
BEGIN:VEVENT
UID:27c15d39e8fe5093132f50f3cb4d69ad
DTSTAMP:20260424T010351Z
SUMMARY:9:30a Shabbat Services-HA
DESCRIPTION:The Knoxville Jewish Alliance\nThe Knoxville Jewish Alliance Ca
 lendar\nhttps://jewishknoxville.org/calendar/930a-shabbat-services-ha2-267
 052\n\nJoin us for Shabbat Services\, with Kiddush lunch to follow.
DTSTART;TZID=America/New_York:20180407T093000
DTEND;TZID=America/New_York:20180407T113000
END:VEVENT
END:VCALENDAR
