BEGIN:VCALENDAR
PRODID:-//eluceo/ical//2.0/EN
VERSION:2.0
CALSCALE:GREGORIAN
BEGIN:VEVENT
UID:c8007a45b64681965ad83d1fe5ed5a76
DTSTAMP:20260420T113455Z
SUMMARY:10-11:30a Shabbat Services - HA
DESCRIPTION:The Knoxville Jewish Alliance\nThe Knoxville Jewish Alliance Ca
 lendar\nhttps://jewishknoxville.org/calendar/930a-shabbat-services-ha50-37
 2413\n\nPlease join us on zoom. Link available on our Nu News\, or KJA Ne
 wsletter or call the office 865-522-0701.
DTSTART;TZID=America/New_York:20210220T100000
DTEND;TZID=America/New_York:20210220T113000
END:VEVENT
END:VCALENDAR
