BEGIN:VCALENDAR
PRODID:-//eluceo/ical//2.0/EN
VERSION:2.0
CALSCALE:GREGORIAN
BEGIN:VEVENT
UID:d640ed287230133b0d0501e01a25fdc1
DTSTAMP:20260423T093413Z
SUMMARY:10-11:30a Women's League Shabbat Services - HA
DESCRIPTION:The Knoxville Jewish Alliance\nThe Knoxville Jewish Alliance Ca
 lendar\nhttps://jewishknoxville.org/calendar/930a-shabbat-services-ha50-37
 2416\n\nPlease join us on zoom. Link available on our Nu News or call the
  office 865-522-0701.
DTSTART;TZID=America/New_York:20210116T100000
DTEND;TZID=America/New_York:20210116T113000
END:VEVENT
END:VCALENDAR
