BEGIN:VCALENDAR
PRODID:-//eluceo/ical//2.0/EN
VERSION:2.0
CALSCALE:GREGORIAN
BEGIN:VEVENT
UID:35798b6eeb4137b68f83316c57ef26a9
DTSTAMP:20260423T220003Z
SUMMARY:9:30a Women's League Installation - HA
DESCRIPTION:The Knoxville Jewish Alliance\nThe Knoxville Jewish Alliance Ca
 lendar\nhttps://jewishknoxville.org/calendar/930a-womens-league-installati
 on-ha-270863\n\nJoin us for the installation of Women's League officers an
 d the celebratory kiddush that will follow.
DTSTART;TZID=America/New_York:20180616T093000
DTEND;TZID=America/New_York:20180616T120000
END:VEVENT
END:VCALENDAR
