BEGIN:VCALENDAR
PRODID:-//eluceo/ical//2.0/EN
VERSION:2.0
CALSCALE:GREGORIAN
BEGIN:VEVENT
UID:d4eaf9f70c7db87d5ccf76bf7c3f707f
DTSTAMP:20260423T205153Z
SUMMARY:9:30a Yom Kippur Morning Service-HA
DESCRIPTION:The Knoxville Jewish Alliance\nThe Knoxville Jewish Alliance Ca
 lendar\nhttps://jewishknoxville.org/calendar/930a-yom-kippur-morning-servi
 ce-ha-282312\n\nImmediately after services\, study sessions will be held i
 n the library\, led by Barb Levin and Heather Hirschfeld.\n\nThe synagogue
  will be open all day on Yom Kippur including the time between services. Y
 ou are invited to relax\, nap\, or find a quiet space for contemplation th
 roughout the day with us. Come enjoy our beautiful new meeting rooms and c
 lassrooms or find a spot for reflection in the sanctuary\, chapel\, or lib
 rary.
DTSTART;TZID=America/New_York:20180919T093000
DTEND;TZID=America/New_York:20180919T140000
END:VEVENT
END:VCALENDAR
