BEGIN:VCALENDAR
PRODID:-//eluceo/ical//2.0/EN
VERSION:2.0
CALSCALE:GREGORIAN
BEGIN:VEVENT
UID:e0264ff0345ef067b133860f57f4e99a
DTSTAMP:20260421T024313Z
SUMMARY:9:30a Tai Chi-JCOR
DESCRIPTION:The Knoxville Jewish Alliance\nThe Knoxville Jewish Alliance Ca
 lendar\nhttps://jewishknoxville.org/calendar/930aTaiChi-JCOR-135207\n\nThi
 s class will meet regularly on Mondays and Wednesdays from 9:30-10:45 am. 
 The class will contain a mix of beginning and continuing students\, and wi
 ll take about 5 months to explore the moves of the set at a beginning leve
 l.
DTSTART;TZID=America/New_York:20150701T093000
DTEND;TZID=America/New_York:20150701T104500
END:VEVENT
END:VCALENDAR
