BEGIN:VCALENDAR
PRODID:-//eluceo/ical//2.0/EN
VERSION:2.0
CALSCALE:GREGORIAN
BEGIN:VEVENT
UID:97d4a33ca098cb6211535ce7eaefaf08
DTSTAMP:20260425T151639Z
SUMMARY:9:30am Religious School - TBE
DESCRIPTION:The Knoxville Jewish Alliance\nThe Knoxville Jewish Alliance Ca
 lendar\nhttps://jewishknoxville.org/calendar/930am-religious-school-tbe-20
 18-2019-266720\n\nReligious School at Temple Beth El
DTSTART;TZID=America/New_York:20180819T093000
DTEND;TZID=America/New_York:20180819T120000
END:VEVENT
END:VCALENDAR
