BEGIN:VCALENDAR
PRODID:-//eluceo/ical//2.0/EN
VERSION:2.0
CALSCALE:GREGORIAN
BEGIN:VEVENT
UID:3c37674f48c5950b5b62409011248346
DTSTAMP:20260423T070002Z
SUMMARY:9:30am 1st Day Religious School - TBE
DESCRIPTION:The Knoxville Jewish Alliance\nThe Knoxville Jewish Alliance Ca
 lendar\nhttps://jewishknoxville.org/calendar/930am-religious-school-tbe-20
 20-2021-355607\n\n9:30am 1st Day Religious School - TBE
DTSTART;TZID=America/New_York:20200816T093000
DTEND;TZID=America/New_York:20200816T120000
END:VEVENT
END:VCALENDAR
