BEGIN:VCALENDAR
PRODID:-//eluceo/ical//2.0/EN
VERSION:2.0
CALSCALE:GREGORIAN
BEGIN:VEVENT
UID:092d98fbb0d8bf57503e86f0d46f34b0
DTSTAMP:20260421T184815Z
SUMMARY:9:30am Religious School - TBE
DESCRIPTION:The Knoxville Jewish Alliance\nThe Knoxville Jewish Alliance Ca
 lendar\nhttps://jewishknoxville.org/calendar/930am-religious-school-tbe-20
 21-2022-383160\n\n9:30am Religious School
DTSTART;TZID=America/New_York:20210822T093000
DTEND;TZID=America/New_York:20210822T120000
END:VEVENT
END:VCALENDAR
