BEGIN:VCALENDAR
PRODID:-//eluceo/ical//2.0/EN
VERSION:2.0
CALSCALE:GREGORIAN
BEGIN:VEVENT
UID:c07e18b3216d863d35a7827b622ec2fb
DTSTAMP:20260422T233721Z
SUMMARY:9:30am-ReligiousSchool-TBE
DESCRIPTION:The Knoxville Jewish Alliance\nThe Knoxville Jewish Alliance Ca
 lendar\nhttps://jewishknoxville.org/calendar/930am-religiousschool-tbe-219
 732\n\n9:30am Religious School
DTSTART;TZID=America/New_York:20170430T093000
DTEND;TZID=America/New_York:20170430T120000
END:VEVENT
END:VCALENDAR
