BEGIN:VCALENDAR
PRODID:-//eluceo/ical//2.0/EN
VERSION:2.0
CALSCALE:GREGORIAN
BEGIN:VEVENT
UID:d465cd75d8a9317e23c579d65bb15500
DTSTAMP:20260423T140338Z
SUMMARY:12noon Sisterhood Drive-Thru Food Drive and Coats for the Cold - TB
 E
DESCRIPTION:The Knoxville Jewish Alliance\nThe Knoxville Jewish Alliance Ca
 lendar\nhttps://jewishknoxville.org/calendar/930am-sisterhood-challah-bake
 -tbe-355581\n\n12noon until 3pm Sisterhood Drive-Thru Food Drive and Coats
  for the Cold - TBE
DTSTART;TZID=America/New_York:20201108T120000
DTEND;TZID=America/New_York:20201108T150000
END:VEVENT
END:VCALENDAR
