BEGIN:VCALENDAR
PRODID:-//eluceo/ical//2.0/EN
VERSION:2.0
CALSCALE:GREGORIAN
BEGIN:VEVENT
UID:77eb4696bdba3118eb67fb98d9b4595e
DTSTAMP:20260425T204949Z
SUMMARY:9:30am Sisterhood Hamantaschen Bake - TBE
DESCRIPTION:The Knoxville Jewish Alliance\nThe Knoxville Jewish Alliance Ca
 lendar\nhttps://jewishknoxville.org/calendar/930am-sisterhood-hamantaschen
 -bake-tbe-321820\n\nSisterhood Hamantaschen Bake 
DTSTART;TZID=America/New_York:20200223T093000
DTEND;TZID=America/New_York:20200223T123000
END:VEVENT
END:VCALENDAR
