BEGIN:VCALENDAR
PRODID:-//eluceo/ical//2.0/EN
VERSION:2.0
CALSCALE:GREGORIAN
BEGIN:VEVENT
UID:268e5759da2e91830e8d03880cf93d12
DTSTAMP:20260425T160046Z
SUMMARY:9:30am-Sukkot Service-HAS
DESCRIPTION:The Knoxville Jewish Alliance\nThe Knoxville Jewish Alliance Ca
 lendar\nhttps://jewishknoxville.org/calendar/930am-sukkot-service-has2\n\n
 Sukkot day 2
DTSTART;TZID=America/New_York:20251008T093000
DTEND;TZID=America/New_York:20251008T120000
END:VEVENT
END:VCALENDAR
