BEGIN:VCALENDAR
PRODID:-//eluceo/ical//2.0/EN
VERSION:2.0
CALSCALE:GREGORIAN
BEGIN:VEVENT
UID:d167d8e70a6f062760e8a97d557c4e7a
DTSTAMP:20260423T194151Z
SUMMARY:9:30p Tisha B'Av Service-HA
DESCRIPTION:The Knoxville Jewish Alliance\nThe Knoxville Jewish Alliance Ca
 lendar\nhttps://jewishknoxville.org/calendar/930p-tisha-bav-service-ha-273
 292\n\nThe 9th day of the month of Av is often considered the saddest day 
 in our year because the first and second temples were both destroyed on th
 is same day. Our short service recognizing this day\, Tisha B’Av\, will 
 begin a bit later than past years as we wait for sundown after Shabbat on 
 Saturday July 21 to begin. We will start with Havdalah at 9:30 pm and our 
 service for Tisha B’Av will follow. \n\n \n\nPlease join us as we liste
 n to mournful kinot (dirges) played by Ivan Cooper on harmonic...
DTSTART;TZID=America/New_York:20180721T213000
DTEND;TZID=America/New_York:20180721T233000
END:VEVENT
END:VCALENDAR
