BEGIN:VCALENDAR
PRODID:-//eluceo/ical//2.0/EN
VERSION:2.0
CALSCALE:GREGORIAN
BEGIN:VEVENT
UID:e19ab600fde9d914bfa040a76d543bbe
DTSTAMP:20260419T233529Z
SUMMARY:9:45 a Traditional Shabbat-HAS
DESCRIPTION:The Knoxville Jewish Alliance\nThe Knoxville Jewish Alliance Ca
 lendar\nhttps://jewishknoxville.org/calendar/945-a-traditional-shabbat-has
 333\n\nLed by R&RS and Friends.\n\nIn person and Zoom
DTSTART;TZID=America/New_York:20251206T094500
DTEND;TZID=America/New_York:20251206T120000
END:VEVENT
END:VCALENDAR
