BEGIN:VCALENDAR
PRODID:-//eluceo/ical//2.0/EN
VERSION:2.0
CALSCALE:GREGORIAN
BEGIN:VEVENT
UID:a0e40ecc9d7d5303e71d708c8b272be5
DTSTAMP:20260423T081803Z
SUMMARY:10a-Family Shabbat ft. Scholar Andrew Berns-HAS
DESCRIPTION:The Knoxville Jewish Alliance\nThe Knoxville Jewish Alliance Ca
 lendar\nhttps://jewishknoxville.org/calendar/945a-traditional-shabbat-ft-s
 cholar-andrew-berns-has\n\nJoin our Services in person and on Zoom.\n\n10:
 30a- Kids go to class/crafts.\n\nScholar Andrew Berns\, from University of
  South Carolina\, will have the honor of D'var Torah during services.\n\nF
 Amily-friendly Kiddush to follow with a lesson from Andrew following kiddu
 sh.\n\nVisit our website or Nu?News! for details.
DTSTART;TZID=America/New_York:20260502T094500
DTEND;TZID=America/New_York:20260502T120000
END:VEVENT
END:VCALENDAR
