BEGIN:VCALENDAR
PRODID:-//eluceo/ical//2.0/EN
VERSION:2.0
CALSCALE:GREGORIAN
BEGIN:VEVENT
UID:71317d3c7e6dc160b6b41e62225683be
DTSTAMP:20260423T025526Z
SUMMARY:9:45a Traditional Shabbat-HAS
DESCRIPTION:The Knoxville Jewish Alliance\nThe Knoxville Jewish Alliance Ca
 lendar\nhttps://jewishknoxville.org/calendar/945a-traditional-shabbat-has3
 21\n\nJoin us on Zoom or in person for our Traditional Shabbat Services.\n
 \nKiddush to follow
DTSTART;TZID=America/New_York:20260620T094500
DTEND;TZID=America/New_York:20260620T120000
END:VEVENT
END:VCALENDAR
