BEGIN:VCALENDAR
PRODID:-//eluceo/ical//2.0/EN
VERSION:2.0
CALSCALE:GREGORIAN
BEGIN:VEVENT
UID:a7675ce3366309d84538e12bfa5799d2
DTSTAMP:20260424T230820Z
SUMMARY:9:45a Traditional Shabbat Services-HAS
DESCRIPTION:The Knoxville Jewish Alliance\nThe Knoxville Jewish Alliance Ca
 lendar\nhttps://jewishknoxville.org/calendar/945a-traditional-shabbat-serv
 ices-has654\n\nJoin us for Traditional Services in person and on Zoom.\n\n
 Kiddush to follow (in person)
DTSTART;TZID=America/New_York:20260606T094500
DTEND;TZID=America/New_York:20260606T120000
END:VEVENT
END:VCALENDAR
