BEGIN:VCALENDAR
PRODID:-//eluceo/ical//2.0/EN
VERSION:2.0
CALSCALE:GREGORIAN
BEGIN:VEVENT
UID:505dc43e7150752de8983ed63723272a
DTSTAMP:20260422T210256Z
SUMMARY:9:45am-Addy DiSalvo-Tinley's Bat Mitzvah-HAS
DESCRIPTION:The Knoxville Jewish Alliance\nThe Knoxville Jewish Alliance Ca
 lendar\nhttps://jewishknoxville.org/calendar/945am-addy-disalvo-tinleys-ba
 t-mitzvah\n\nCome celebrate!!!
DTSTART;TZID=America/New_York:20251220T094500
DTEND;TZID=America/New_York:20251220T120000
END:VEVENT
END:VCALENDAR
