BEGIN:VCALENDAR
PRODID:-//eluceo/ical//2.0/EN
VERSION:2.0
CALSCALE:GREGORIAN
BEGIN:VEVENT
UID:ba6f00935324667aadc30a2d87e355f3
DTSTAMP:20260419T233519Z
SUMMARY:9:45AM-Veterans Shabbat w/ HAWL sponsored kiddush-HAS
DESCRIPTION:The Knoxville Jewish Alliance\nThe Knoxville Jewish Alliance Ca
 lendar\nhttps://jewishknoxville.org/calendar/945am-traditional-shabbat-ser
 vices-has9\n\nKiddush to follow sponsored by HAWL with guest speaker Rabbi
  Lynn Liberman.
DTSTART;TZID=America/New_York:20251115T094500
DTEND;TZID=America/New_York:20251115T120000
END:VEVENT
END:VCALENDAR
