BEGIN:VCALENDAR
PRODID:-//eluceo/ical//2.0/EN
VERSION:2.0
CALSCALE:GREGORIAN
BEGIN:VEVENT
UID:e0cdc5686e72719c0259c9fe768466a6
DTSTAMP:20260424T210642Z
SUMMARY:Noon KJA Friendshippers - Sherrill Hills
DESCRIPTION:The Knoxville Jewish Alliance\nThe Knoxville Jewish Alliance Ca
 lendar\nhttps://jewishknoxville.org/calendar/August2019Friendshippers\n\nO
 ur Wednesday\, August 14 program features\n\nUT McClung Museum\n\nCivil Wa
 r Curator Joan Markel\n\n\n\n\n\n\n\n\n\n \n\n \n\n\n\n\n\n\n\n\n\n\n\n\
 n\n\n\n\n\n\n\n\n\n\n\n\n\n\n\n\n\n\nAll are welcome. \n\nYou don...
DTSTART;TZID=America/New_York:20190814T120000
DTEND;TZID=America/New_York:20190814T140000
END:VEVENT
END:VCALENDAR
