BEGIN:VCALENDAR
PRODID:-//eluceo/ical//2.0/EN
VERSION:2.0
CALSCALE:GREGORIAN
BEGIN:VEVENT
UID:df7c5e5f450185aa1115a712ca3f31df
DTSTAMP:20260424T161955Z
SUMMARY:5p Friendshippers Happy Hour - Orwitz Room
DESCRIPTION:The Knoxville Jewish Alliance\nThe Knoxville Jewish Alliance Ca
 lendar\nhttps://jewishknoxville.org/calendar/February-2016-Friendshippers\
 n\nFriendshippers Happy Hour\n\nBy Laura Faye Berry\, BSSW\, Esq.\, Direct
 or\n\n \n\nPlease join us for this month’s Friendshippers program.  Th
 e Friendshippers group gets together once a month and is open to all—we 
 don’t check IDs at the door!\n\n \n\nFor 2016\, we would like to add so
 me variation to the Friendshippers program.  We will still meet every mon
 th\, but it won’t always be a luncheon.  We would love to hear from our
  community members about things they want to do with the Frie...
DTSTART;TZID=America/New_York:20160217T170000
DTEND;TZID=America/New_York:20160217T183000
END:VEVENT
END:VCALENDAR
