BEGIN:VCALENDAR
PRODID:-//eluceo/ical//2.0/EN
VERSION:2.0
CALSCALE:GREGORIAN
BEGIN:VEVENT
UID:a8229bdc0ac687f45d6325e0802872c7
DTSTAMP:20260425T171019Z
SUMMARY:12p Friendshippers @ Sherrill Hills
DESCRIPTION:The Knoxville Jewish Alliance\nThe Knoxville Jewish Alliance Ca
 lendar\nhttps://jewishknoxville.org/calendar/January-2016-friendshippers\n
 \nKnoxville Oral Histories Project: Market Square and the Old Market Hous
 e \n\nLiz Teston\, an interior designer and faculty member in UT's Colle
 ge of Architecture and Design\, and Mary Linda Schwarzbart will present o
 n the Knoxville Oral Histories Project: Market Square and the old Market H
 ouse.  The old Market House was demolished in 1959.  The Oral Histories 
 Project is seeking native Knoxvillians to interview about their memories o
 f Market Square and the old Market House.  Please join u...
DTSTART;TZID=America/New_York:20160112T120000
DTEND;TZID=America/New_York:20160112T133000
END:VEVENT
END:VCALENDAR
