BEGIN:VCALENDAR
PRODID:-//eluceo/ical//2.0/EN
VERSION:2.0
CALSCALE:GREGORIAN
BEGIN:VEVENT
UID:50826af39c2bc2e85466e99cc3f4b398
DTSTAMP:20260422T014421Z
SUMMARY:Noon KJA Friendshippers - Sherrill Hills
DESCRIPTION:The Knoxville Jewish Alliance\nThe Knoxville Jewish Alliance Ca
 lendar\nhttps://jewishknoxville.org/calendar/May2020Friendshippers\n\nPlea
 se join us for this month’s Friendshippers program.  The Friendshippers
  group gets together once a month for lunch and entertainment.  Friendshi
 ppers is open to all—we don’t check IDs at the door!\n\nTuesday\, May 
 12: Rhythm Band with Rise Tucker\n\nLet's strike up the band!\n\nDo you li
 ke music?  Do you like people? If you answered yes to those questions\, t
 hen rhythm band may be for you!\n\nRhythm band is an upbeat musical experi
 ence that mixes fun and entertainment through perfo...
DTSTART;TZID=America/New_York:20200512T120000
DTEND;TZID=America/New_York:20200512T134500
END:VEVENT
END:VCALENDAR
