BEGIN:VCALENDAR
PRODID:-//eluceo/ical//2.0/EN
VERSION:2.0
CALSCALE:GREGORIAN
BEGIN:VEVENT
UID:a839100fadc499b85461624adcdebb58
DTSTAMP:20260419T184416Z
SUMMARY:Noon KJA Friendshippers - Sherrill Hills
DESCRIPTION:The Knoxville Jewish Alliance\nThe Knoxville Jewish Alliance Ca
 lendar\nhttps://jewishknoxville.org/calendar/September2019Friendshippers\n
 \nPlease join us for this month’s Friendshippers program.  The Friendsh
 ippers group gets together once a month for lunch and entertainment.  Fri
 endshippers is open to all—we don’t check IDs at the door!\n\n \n\nWe
 dnesday\, September 18: An Opera Performance by Baritone Maurice Hendric
 ks\n\n​Known for his wide range\, depth of character and long locks\, ba
 ritone Maurice Hendricks is an accomplished performer with a wide range of
  artistic experience. He holds a B. A. in music from Carso...
DTSTART;TZID=America/New_York:20190918T120000
DTEND;TZID=America/New_York:20190918T140000
END:VEVENT
END:VCALENDAR
