BEGIN:VCALENDAR
PRODID:-//eluceo/ical//2.0/EN
VERSION:2.0
CALSCALE:GREGORIAN
BEGIN:VEVENT
UID:0d897bd5352fcdb98f8dcde851e16d95
DTSTAMP:20260422T090200Z
SUMMARY:Adult Fundraising Event - KJA
DESCRIPTION:The Knoxville Jewish Alliance\nThe Knoxville Jewish Alliance Ca
 lendar\nhttps://jewishknoxville.org/calendar/adult-fundraising-event---kja
 -1763324377\n\nRegister for the 80's Dance HERE!\n\n80s Glam Dance Party -
  A Night to Remember\n\nStep into the Full Glam 80s for a high‑energy
  night of music\, dancing\, and community.\n\nJoin us for an unforgettable
  evening featuring:\n🎶 A fantastic DJ spinning crowd‑favorite hits\
 n🍸 A fully stocked bar with signature cocktails\n🍽️ Delicious f
 ood shared with our incredible community\n\nWhether you’re here to danc
 e the night away\, enjoy great food and drinks\, or reconnect with frien..
 .
DTSTART;TZID=America/New_York:20260221T183000
DTEND;TZID=America/New_York:20260221T203000
END:VEVENT
END:VCALENDAR
