BEGIN:VCALENDAR
PRODID:-//eluceo/ical//2.0/EN
VERSION:2.0
CALSCALE:GREGORIAN
BEGIN:VEVENT
UID:2cf21ae6d8e56228fcbe17797453c29d
DTSTAMP:20260424T231833Z
SUMMARY:AJCC Caller Auditorium (Gymnasium) CLOSED FOR FLOOR REFINISHING
DESCRIPTION:The Knoxville Jewish Alliance\nThe Knoxville Jewish Alliance Ca
 lendar\nhttps://jewishknoxville.org/calendar/ajcc-caller-auditorium-gymnas
 ium-closed-for-floor-refinishing-279001\n\nAJCC Caller Auditorium (Gymnasi
 um)\n\nClosed for floor refinishing
DTSTART;TZID=America/New_York:20180730T000000
DTEND;TZID=America/New_York:20180803T235959
END:VEVENT
END:VCALENDAR
