BEGIN:VCALENDAR
PRODID:-//eluceo/ical//2.0/EN
VERSION:2.0
CALSCALE:GREGORIAN
BEGIN:VEVENT
UID:2b6284767feea7281a59783aa1e916a9
DTSTAMP:20260421T033314Z
SUMMARY:AJCC Preschool Book Fair - AJCC Caller Auditorium
DESCRIPTION:The Knoxville Jewish Alliance\nThe Knoxville Jewish Alliance Ca
 lendar\nhttps://jewishknoxville.org/calendar/ajcc-preschool-book-fair-2791
 93\n\nAJCC Preschool Book Fair\n\n8:30 a.m. - 5:00 p.m. daily\n\nVolunteer
 s Needed
DTSTART;TZID=America/New_York:20181112T203000
DTEND;TZID=America/New_York:20181116T170000
END:VEVENT
END:VCALENDAR
