BEGIN:VCALENDAR
PRODID:-//eluceo/ical//2.0/EN
VERSION:2.0
CALSCALE:GREGORIAN
BEGIN:VEVENT
UID:e24c309404179c77917d309f3cf68644
DTSTAMP:20260422T210325Z
SUMMARY:AJCC Preschool CLOSED - Pesach
DESCRIPTION:The Knoxville Jewish Alliance\nThe Knoxville Jewish Alliance Ca
 lendar\nhttps://jewishknoxville.org/calendar/ajcc-preschool-closed-pesach-
 235683\n\nAJCC Preschool CLOSED\n\nPesach
DTSTART;TZID=America/New_York:20180406T000000
DTEND;TZID=America/New_York:20180406T000000
END:VEVENT
END:VCALENDAR
