BEGIN:VCALENDAR
PRODID:-//eluceo/ical//2.0/EN
VERSION:2.0
CALSCALE:GREGORIAN
BEGIN:VEVENT
UID:b33b119dba4ab123be3221dac7864cc7
DTSTAMP:20260422T054856Z
SUMMARY:AJCC Preschool CLOSED - Summer Camp Orientation - Staff Report
DESCRIPTION:The Knoxville Jewish Alliance\nThe Knoxville Jewish Alliance Ca
 lendar\nhttps://jewishknoxville.org/calendar/ajcc-preschool-closed-summer-
 camp-orientation--staff-report-235694\n\nAJCC Preschool CLOSED\n\nSummer C
 amp Orientation\n\nSummer Staff Report
DTSTART;TZID=America/New_York:20180524T000000
DTEND;TZID=America/New_York:20180524T000000
END:VEVENT
END:VCALENDAR
