BEGIN:VCALENDAR
PRODID:-//eluceo/ical//2.0/EN
VERSION:2.0
CALSCALE:GREGORIAN
BEGIN:VEVENT
UID:3df44817599d1a96a4d65dac23bb0712
DTSTAMP:20260421T181607Z
SUMMARY:AJCC Preschool Pajama READ-IN Day-AJCC
DESCRIPTION:The Knoxville Jewish Alliance\nThe Knoxville Jewish Alliance Ca
 lendar\nhttps://jewishknoxville.org/calendar/ajcc-preschool-pajama-read-in
 -day-ajcc\n\nPajama Day/READ-IN Day - Parent Volunteers Welcome
DTSTART;TZID=America/New_York:20161031T000000
DTEND;TZID=America/New_York:20161031T235900
END:VEVENT
END:VCALENDAR
