BEGIN:VCALENDAR
PRODID:-//eluceo/ical//2.0/EN
VERSION:2.0
CALSCALE:GREGORIAN
BEGIN:VEVENT
UID:b003fa5f35cda3471d2631181adf8f75
DTSTAMP:20260424T062202Z
SUMMARY:AJCC Preschool Parent-Teacher Conferences
DESCRIPTION:The Knoxville Jewish Alliance\nThe Knoxville Jewish Alliance Ca
 lendar\nhttps://jewishknoxville.org/calendar/ajcc-preschool-parent-teacher
 -conferences-235687\n\nAJCC Preschool\n\nParent-Teacher Conferences\n\nSch
 edule appointment time with classroom teacher
DTSTART;TZID=America/New_York:20180416T000000
DTEND;TZID=America/New_York:20180427T000000
END:VEVENT
END:VCALENDAR
